BEGIN:VCALENDAR
VERSION:2.0
PRODID:-//www.prophecyusa.org//NONSGML kigkonsult.se iCalcreator 2.39.1//
CALSCALE:GREGORIAN
METHOD:PUBLISH
UID:074a6040-48b4-4031-ba1e-b7f011385fcc
X-WR-CALNAME:www.prophecyusa.org
X-WR-CALDESC:www.prophecyusa.org
X-WR-TIMEZONE:America/Los_Angeles
X-LIC-LOCATION:America/Los_Angeles
BEGIN:VEVENT
UID:645ed7f9-1e35-4ab8-99bf-95081fa89f36
DTSTAMP:20260425T111735Z
CLASS:PUBLIC
DTSTART;TZID=America/Los_Angeles:20260430T190000
DTEND;TZID=America/Los_Angeles:20260430T200000
SUMMARY:ProphecyUSA Podcast
TRANSP:OPAQUE
BEGIN:VALARM
ACTION:DISPLAY
DESCRIPTION:ProphecyUSA Podcast
TRIGGER:-PT15M
END:VALARM
END:VEVENT
END:VCALENDAR
